BEGIN:VCALENDAR
VERSION:2.0
METHOD:PUBLISH
BEGIN:VEVENT
ORGANIZER:MAILTO:
DTSTART:20210610T190000Z
DTEND:20210610T193000Z
LOCATION:
SUMMARY:Bankruptcy Hot Topic - The Supreme Court on turnovers and the automatic stay.
DESCRIPTION;ENCODING=QUOTED-PRINTABLE:Click here to register: https://relx.webex.com/relx/onstage/g.php?MTID=ea1de7ad18bf6d409086c2705f6bcac33 \n In a 2021 ruling on a case before the Supreme Court, City of Chicago v. Fulton, 141 S. Ct. 585 (January 14, (2021), the court unanimously decided that the automatic stay imposed by Section 362 of the Bankruptcy Code does not require entities lawfully in possession of the debtor&rsquo;s property to immediately return that property upon the commencement of a bankruptcy case. (Law360 Expert Analysis, The Far-Reaching Implications of High Court Ch. 13 Ruling by Deborah Williamson, Jonathan Aberman and Nicholas Zugaro.) Expanding upon the Supreme Court&rsquo;s decision and the expert analysis from Law360, this course will review resources within Lexis to: &bull; track this important precedent, &bull; fully leverage a wealth of automatic stay resources, &bull; and review tools to help you stay up to date on this issue.
X-ALT-DESC;FMTTYPE=text/html:<html><body><p>Click here to register:&nbsp;<a href="https://relx.webex.com/relx/onstage/g.php?MTID=ea1de7ad18bf6d409086c2705f6bcac33">https://relx.webex.com/relx/onstage/g.php?MTID=ea1de7ad18bf6d409086c2705f6bcac33</a></p><p>In a 2021 ruling on a case before the Supreme Court, City of Chicago v. Fulton, 141 S. Ct. 585 (January 14, (2021), the court unanimously decided that the automatic stay imposed by Section 362 of the Bankruptcy Code does not require entities lawfully in possession of the debtor&rsquo;s property to immediately return that property upon the commencement of a bankruptcy case. (Law360 Expert Analysis, The Far-Reaching Implications of High Court Ch. 13 Ruling by Deborah Williamson, Jonathan Aberman and Nicholas Zugaro.)<br /><br />Expanding upon the Supreme Court&rsquo;s decision and the expert analysis from Law360, this course will review resources within Lexis to:<br />&bull; track this important precedent,<br />&bull; fully leverage a wealth of automatic stay resources,<br />&bull; and review tools to help you stay up to date on this issue.</p></body></html>
CLASS:PUBLIC
END:VEVENT
END:VCALENDAR